BEGIN:VCALENDAR
VERSION:2.0
PRODID:-//Department Of Education//bc4decff-6e05-47ae-9e6c-9e86201b5089
BEGIN:VTIMEZONE
TZID:Australia/Sydney
TZURL:http://tzurl.org/zoneinfo-outlook/Australia/Sydney
X-LIC-LOCATION:Australia/Sydney
BEGIN:STANDARD
TZOFFSETFROM:+1100
TZOFFSETTO:+1000
TZNAME:AEST
DTSTART:19700405T030000
RRULE:FREQ=YEARLY;BYMONTH=4;BYDAY=1SU
END:STANDARD
BEGIN:DAYLIGHT
TZOFFSETFROM:+1000
TZOFFSETTO:+1100
TZNAME:AEDT
DTSTART:19701004T020000
RRULE:FREQ=YEARLY;BYMONTH=10;BYDAY=1SU
END:DAYLIGHT
END:VTIMEZONE
CALSCALE:GREGORIAN
X-WR-TIMEZONE:Australia/Sydney
BEGIN:VEVENT
DTSTART;TZID=Australia/Sydney:20200302T080000
DTEND;TZID=Australia/Sydney:20200309T143000
DTSTAMP:20200302T000000Z
UID:ba891c58-9113-481b-be70-24b0c1c94d28
LOCATION:Macquarie Fields Pool
SUMMARY;LANGUAGE=en-us:Zone & Regional swimming 
SEQUENCE:0
DESCRIPTION:The Hurlstone swimming team will be going on an excursion to Macquarie Fields Pool, Fields Rd, Macquarie Fields on Monday 2nd March to compete in the Hume Zone swimming carnival.   NOTE: Students selected in the Zone Team will be invited to compete at the SSW Regional Carnival to be held at The Gordon Fetterplace Aquatic Centre (Bradbury pool) on Monday 9th March commencing at 8am and concluding at 3.30pm. Due to the short turn around his note covers permission for both the zone and regional carnivals.
END:VEVENT
TRANSP:TRANSPARENT
END:VCALENDAR
