BEGIN:VCALENDAR
VERSION:2.0
PRODID:-//Department Of Education//41187922-2ff0-411b-b999-0531f534c1e7
BEGIN:VTIMEZONE
TZID:Australia/Sydney
TZURL:http://tzurl.org/zoneinfo-outlook/Australia/Sydney
X-LIC-LOCATION:Australia/Sydney
BEGIN:STANDARD
TZOFFSETFROM:+1100
TZOFFSETTO:+1000
TZNAME:AEST
DTSTART:19700405T030000
RRULE:FREQ=YEARLY;BYMONTH=4;BYDAY=1SU
END:STANDARD
BEGIN:DAYLIGHT
TZOFFSETFROM:+1000
TZOFFSETTO:+1100
TZNAME:AEDT
DTSTART:19701004T020000
RRULE:FREQ=YEARLY;BYMONTH=10;BYDAY=1SU
END:DAYLIGHT
END:VTIMEZONE
CALSCALE:GREGORIAN
X-WR-TIMEZONE:Australia/Sydney
BEGIN:VEVENT
DTSTART;TZID=Australia/Sydney:20200224T122000
DTEND;TZID=Australia/Sydney:20200224T140500
DTSTAMP:20200224T000000Z
UID:ce27966e-7c85-4851-9787-ea003bc49853
LOCATION:HAHS
SUMMARY;LANGUAGE=en-us:Year 7 Term 1 2020 Sport
RRULE:FREQ=WEEKLY;INTERVAL=1;UNTIL=20200304;
SEQUENCE:0
DESCRIPTION:Year 7 Sport on Wednesday afternoons.
END:VEVENT
TRANSP:TRANSPARENT
END:VCALENDAR
