BEGIN:VCALENDAR
VERSION:2.0
PRODID:-//Department Of Education//a0dc99a1-dae2-4377-b899-2634f3a217e7
BEGIN:VTIMEZONE
TZID:Australia/Sydney
TZURL:http://tzurl.org/zoneinfo-outlook/Australia/Sydney
X-LIC-LOCATION:Australia/Sydney
BEGIN:STANDARD
TZOFFSETFROM:+1100
TZOFFSETTO:+1000
TZNAME:AEST
DTSTART:19700405T030000
RRULE:FREQ=YEARLY;BYMONTH=4;BYDAY=1SU
END:STANDARD
BEGIN:DAYLIGHT
TZOFFSETFROM:+1000
TZOFFSETTO:+1100
TZNAME:AEDT
DTSTART:19701004T020000
RRULE:FREQ=YEARLY;BYMONTH=10;BYDAY=1SU
END:DAYLIGHT
END:VTIMEZONE
CALSCALE:GREGORIAN
X-WR-TIMEZONE:Australia/Sydney
BEGIN:VEVENT
DTSTART;TZID=Australia/Sydney:20200229T085000
DTEND;TZID=Australia/Sydney:20200229T133000
DTSTAMP:20200229T000000Z
UID:f4caf437-891e-40aa-a4c1-40e9f87054b2
LOCATION:Wenona School, North Sydney
SUMMARY;LANGUAGE=en-us:Japanese Extension Class
SEQUENCE:0
DESCRIPTION:Japanese Extension Class will be going on an excursion to Wenona School, North Sydney on 29th Feb 2020.
END:VEVENT
TRANSP:TRANSPARENT
END:VCALENDAR
